BEGIN:VCALENDAR
VERSION:2.0
PRODID:-//Pro Regio Huttwil//NONSGML kigkonsult.se iCalcreator 2.16.12//
METHOD:PUBLISH
X-MS-OLK-FORCEINSPECTOROPEN:TRUE
BEGIN:VEVENT
UID:20260420T134744CEST-7301i3eeSk@Pro Regio Huttwil
DTSTAMP:20260420T114744Z
DESCRIPTION:Einweihungsfest des neuen Werk-Ateliers\nder Stiftung Wohnheim 
 Öpfuböimli
DTSTART:20160507T000000
DTEND:20160507T000000
LOCATION:Rohrbach
ORGANIZER:MAILTO:Pro Regio Huttwil <info@regio-huttwil.ch>
SUMMARY:Einweihungsfest
END:VEVENT
END:VCALENDAR
