BEGIN:VCALENDAR
VERSION:2.0
PRODID:-//Pro Regio Huttwil//NONSGML kigkonsult.se iCalcreator 2.16.12//
METHOD:PUBLISH
X-MS-OLK-FORCEINSPECTOROPEN:TRUE
BEGIN:VEVENT
UID:20260420T134751CEST-5863uhFcNx@Pro Regio Huttwil
DTSTAMP:20260420T114751Z
DESCRIPTION:Öffentliche Lamawanderung inmitten der wunderschönen Hügellands
 chaft.\n\nKosten: Fr. 35.00 pro Erwachsene & Fr. 15.00 pro Kind\n\nAnmeldu
 ngen erforderlich unter info@lamahof-tschaeppel.ch oder Tel. 062 962 00 54
 .
DTSTART:20160530T180000
DTEND:20160530T200000
LOCATION:Lamahof-Tschäppel
ORGANIZER:MAILTO:Pro Regio Huttwil <info@regio-huttwil.ch>
SUMMARY:Lamawanderung
END:VEVENT
END:VCALENDAR
