BEGIN:VCALENDAR
VERSION:2.0
PRODID:-//Pro Regio Huttwil//NONSGML kigkonsult.se iCalcreator 2.16.12//
METHOD:PUBLISH
X-MS-OLK-FORCEINSPECTOROPEN:TRUE
BEGIN:VEVENT
UID:20260420T134751CEST-9850AulVga@Pro Regio Huttwil
DTSTAMP:20260420T114751Z
DESCRIPTION:Motto: Carnevale Veneziano\n\nFreitag\, 19.02.2016\, ab 20.00 U
 hr Schnitzelbankgruppen\nSamstag\, 20.02.2016\, 15.15 Uhr grosser Umzug\nS
 onntag\, 21.02.2016\, 11.00 Uhr Abschiedsapéro\n\nDetaillierte Infos finde
 n Sie unter www.huttwiler-fasnacht.ch
DTSTART:20160219T000000
DTEND:20160221T000000
LOCATION:Huttwil
ORGANIZER:MAILTO:Pro Regio Huttwil <info@regio-huttwil.ch>
SUMMARY:Huttwiler Fasnacht
END:VEVENT
END:VCALENDAR
