BEGIN:VCALENDAR
VERSION:2.0
PRODID:-//Pro Regio Huttwil//NONSGML kigkonsult.se iCalcreator 2.16.12//
METHOD:PUBLISH
X-MS-OLK-FORCEINSPECTOROPEN:TRUE
BEGIN:VEVENT
UID:20260420T134844CEST-29077hB7Fr@Pro Regio Huttwil
DTSTAMP:20260420T114844Z
DESCRIPTION:Der Suppentag läutet die Huttwiler Fasnacht ein und wie jedes J
 ahr erfreuen sich Jung und Alt an Walti's beliebter Gerstensuppe aus der H
 olzofenküche.
DTSTART:20160123T110000
DTEND:20160123T150000
LOCATION:Huttwil
ORGANIZER:MAILTO:Pro Regio Huttwil <info@regio-huttwil.ch>
SUMMARY:Suppentag
END:VEVENT
END:VCALENDAR
