BEGIN:VCALENDAR
VERSION:2.0
PRODID:-//Pro Regio Huttwil//NONSGML kigkonsult.se iCalcreator 2.16.12//
METHOD:PUBLISH
X-MS-OLK-FORCEINSPECTOROPEN:TRUE
BEGIN:VEVENT
UID:20260422T104237CEST-9027BMx0gv@Pro Regio Huttwil
DTSTAMP:20260422T084237Z
DESCRIPTION:Silvester im Restaurant Stadthaus Da Luca ab 18.00 Uhr\n\n5-Gan
 g Silvestermenü Fr. 82.00 &\nMusikalische Unterhaltung mit der Schlagersän
 gerin Patricia Mathys\n\nWeitere Infos & Reservation: Tel. 062 962 12 43 o
 der 079 388 60 28
DTSTART:20151231T000000
DTEND:20151231T000000
LOCATION:Huttwil
ORGANIZER:MAILTO:Pro Regio Huttwil <info@regio-huttwil.ch>
SUMMARY:Silvesterabend
END:VEVENT
END:VCALENDAR
