BEGIN:VCALENDAR
VERSION:2.0
PRODID:-//Pro Regio Huttwil//NONSGML kigkonsult.se iCalcreator 2.16.12//
METHOD:PUBLISH
X-MS-OLK-FORCEINSPECTOROPEN:TRUE
BEGIN:VEVENT
UID:20260420T115830CEST-4582djP5Ro@Pro Regio Huttwil
DTSTAMP:20260420T095830Z
DESCRIPTION:Kerzenabend\nIm Restaurant Stadthaus Da Luca jeweils ab 18.00 U
 hr\nTischreservation möglich\, Tel. 062 962 12 43
DTSTART:20151225T000000
DTEND:20151226T000000
LOCATION:Huttwil
ORGANIZER:MAILTO:Pro Regio Huttwil <info@regio-huttwil.ch>
SUMMARY:Kerzenabend
END:VEVENT
END:VCALENDAR
