BEGIN:VCALENDAR
VERSION:2.0
PRODID:-//Pro Regio Huttwil//NONSGML kigkonsult.se iCalcreator 2.16.12//
METHOD:PUBLISH
X-MS-OLK-FORCEINSPECTOROPEN:TRUE
BEGIN:VEVENT
UID:20260420T134636CEST-2451aumZvX@Pro Regio Huttwil
DTSTAMP:20260420T114636Z
DESCRIPTION:Der Reformierte Kirchenchor führt den 2. und 3. Teil des bekann
 ten Oratoriums von G.F. Händel zusammen mit Gastsängerinnen und Gastsänger
 n auf
DTSTART:20160327T200000
DTEND:20160327T210000
LOCATION:Reformierte Kirche Huttwil
ORGANIZER:MAILTO:Pro Regio Huttwil <info@regio-huttwil.ch>
SUMMARY:Konzert 'Der Messias'
END:VEVENT
END:VCALENDAR
