BEGIN:VCALENDAR
VERSION:2.0
PRODID:-//Pro Regio Huttwil//NONSGML kigkonsult.se iCalcreator 2.16.12//
METHOD:PUBLISH
X-MS-OLK-FORCEINSPECTOROPEN:TRUE
BEGIN:VEVENT
UID:20260420T134020CEST-10614eN1kv@Pro Regio Huttwil
DTSTAMP:20260420T114020Z
DESCRIPTION: Der Name MORGAIN steht für ausdrucksstarken Irish Folk. Die fü
 nf Musikerinnen und Musiker aus dem Bernbiet erkunden seit Jahren die reic
 he Liedtradition Irlands und vergessen dabei ihre eigenen Wurzeln nicht. D
 as eindringliche Zusammenspiel von Stimme\, Geige\, Gitarre\, Hackbrett un
 d Kontrabass faszinieren das Publikum von MORGAIN.
DTSTART:20160311T200000
DTEND:20160311T210000
LOCATION:Reformierte Kirche Huttwil
ORGANIZER:MAILTO:Pro Regio Huttwil <info@regio-huttwil.ch>
SUMMARY:Konzert MORGAIN Irish Folk
END:VEVENT
END:VCALENDAR
