BEGIN:VCALENDAR
VERSION:2.0
PRODID:-//Pro Regio Huttwil//NONSGML kigkonsult.se iCalcreator 2.16.12//
METHOD:PUBLISH
X-MS-OLK-FORCEINSPECTOROPEN:TRUE
BEGIN:VEVENT
UID:20260420T152124CEST-4834pj3vus@Pro Regio Huttwil
DTSTAMP:20260420T132124Z
DESCRIPTION:
DTSTART:20161025T000000
DTEND:20161025T235900
LOCATION:Kirchgemeindehaus
ORGANIZER:MAILTO:Pro Regio Huttwil <info@regio-huttwil.ch>
SUMMARY:Frauenfrühstück
END:VEVENT
END:VCALENDAR
