BEGIN:VCALENDAR
VERSION:2.0
PRODID:-//Pro Regio Huttwil//NONSGML kigkonsult.se iCalcreator 2.16.12//
METHOD:PUBLISH
X-MS-OLK-FORCEINSPECTOROPEN:TRUE
BEGIN:VEVENT
UID:20260420T151935CEST-1146BwcWvm@Pro Regio Huttwil
DTSTAMP:20260420T131935Z
DESCRIPTION:
DTSTART:20161009T000000
DTEND:20161009T235900
LOCATION:Mehrzweckhalle
ORGANIZER:MAILTO:Pro Regio Huttwil <info@regio-huttwil.ch>
SUMMARY:Konzert und Theater
END:VEVENT
END:VCALENDAR
