BEGIN:VCALENDAR
VERSION:2.0
PRODID:-//Pro Regio Huttwil//NONSGML kigkonsult.se iCalcreator 2.16.12//
METHOD:PUBLISH
X-MS-OLK-FORCEINSPECTOROPEN:TRUE
BEGIN:VEVENT
UID:20260422T123513CEST-5926aGoK9M@Pro Regio Huttwil
DTSTAMP:20260422T103513Z
DESCRIPTION:
DTSTART:20160902T000000
DTEND:20160904T235900
LOCATION:Hornusserhütte Huttwilwald
ORGANIZER:MAILTO:Pro Regio Huttwil <info@regio-huttwil.ch>
SUMMARY:Grümpelhornussen
END:VEVENT
END:VCALENDAR
