BEGIN:VCALENDAR
VERSION:2.0
PRODID:-//Pro Regio Huttwil//NONSGML kigkonsult.se iCalcreator 2.16.12//
METHOD:PUBLISH
X-MS-OLK-FORCEINSPECTOROPEN:TRUE
BEGIN:VEVENT
UID:20260422T132033CEST-3979V7UVDp@Pro Regio Huttwil
DTSTAMP:20260422T112033Z
DESCRIPTION:
DTSTART:20160805T000000
DTEND:20160805T235900
LOCATION:Kirchgemeindehaus
ORGANIZER:MAILTO:Pro Regio Huttwil <info@regio-huttwil.ch>
SUMMARY:Blutspendeaktion SRK
END:VEVENT
END:VCALENDAR
