BEGIN:VCALENDAR
VERSION:2.0
PRODID:-//Pro Regio Huttwil//NONSGML kigkonsult.se iCalcreator 2.16.12//
METHOD:PUBLISH
X-MS-OLK-FORCEINSPECTOROPEN:TRUE
BEGIN:VEVENT
UID:20260422T123326CEST-2743eCU6xA@Pro Regio Huttwil
DTSTAMP:20260422T103326Z
DESCRIPTION:
DTSTART:20160801T000000
DTEND:20160801T235900
LOCATION:Fritzeflue
ORGANIZER:MAILTO:Pro Regio Huttwil <info@regio-huttwil.ch>
SUMMARY:1. Augustfeier
END:VEVENT
END:VCALENDAR
