BEGIN:VCALENDAR
VERSION:2.0
PRODID:-//Pro Regio Huttwil//NONSGML kigkonsult.se iCalcreator 2.16.12//
METHOD:PUBLISH
X-MS-OLK-FORCEINSPECTOROPEN:TRUE
BEGIN:VEVENT
UID:20260422T121642CEST-79457ZX21s@Pro Regio Huttwil
DTSTAMP:20260422T101642Z
DESCRIPTION:
DTSTART:20160618T000000
DTEND:20160618T235900
LOCATION:Sportplatz Melacher
ORGANIZER:MAILTO:Pro Regio Huttwil <info@regio-huttwil.ch>
SUMMARY:Dorfturnier
END:VEVENT
END:VCALENDAR
