BEGIN:VCALENDAR
VERSION:2.0
PRODID:-//Pro Regio Huttwil//NONSGML kigkonsult.se iCalcreator 2.16.12//
METHOD:PUBLISH
X-MS-OLK-FORCEINSPECTOROPEN:TRUE
BEGIN:VEVENT
UID:20260422T121809CEST-0893IaRtio@Pro Regio Huttwil
DTSTAMP:20260422T101809Z
DESCRIPTION:
DTSTART:20160617T000000
DTEND:20160617T235900
LOCATION:Ferienheim
ORGANIZER:MAILTO:Pro Regio Huttwil <info@regio-huttwil.ch>
SUMMARY:Dangelfest
END:VEVENT
END:VCALENDAR
