BEGIN:VCALENDAR
VERSION:2.0
PRODID:-//Pro Regio Huttwil//NONSGML kigkonsult.se iCalcreator 2.16.12//
METHOD:PUBLISH
X-MS-OLK-FORCEINSPECTOROPEN:TRUE
BEGIN:VEVENT
UID:20260420T134811CEST-5744Cm4pVR@Pro Regio Huttwil
DTSTAMP:20260420T114811Z
DESCRIPTION:
DTSTART:20160521T000000
DTEND:20160521T235900
LOCATION:Spielgruppenlokal
ORGANIZER:MAILTO:Pro Regio Huttwil <info@regio-huttwil.ch>
SUMMARY:Spielgruppenfestli
END:VEVENT
END:VCALENDAR
