BEGIN:VCALENDAR
VERSION:2.0
PRODID:-//Pro Regio Huttwil//NONSGML kigkonsult.se iCalcreator 2.16.12//
METHOD:PUBLISH
X-MS-OLK-FORCEINSPECTOROPEN:TRUE
BEGIN:VEVENT
UID:20260420T134612CEST-1979RumVVu@Pro Regio Huttwil
DTSTAMP:20260420T114612Z
DESCRIPTION:Nils Althaus: Tryout Neues Programm …\nDie Saison endet mit dem
  Tryout des neuen Programms von Nils Althaus. “Überschüttet mit Talent von
  den Musengöttinnen” (Mittellandzeitung) - “Musik\, die auch ohne roten Te
 ppich glorios ist” (Der Bund) - “Meister des Spontanhumors” (Neue Zuger Ze
 itung) - “Er war fantastisch” (Tages Anzeiger) – wir schliessen uns den Ze
 itungskritikern an und können den Abend aus eigenen Erfahrungen wärmstens 
 empfehlen! – Sofort reservieren!!\nBistro offen ab 19.30
DTSTART:20160408T200000
DTEND:20160408T230000
LOCATION:Kellerbistro Alte Mühle
ORGANIZER:MAILTO:Pro Regio Huttwil <info@regio-huttwil.ch>
SUMMARY:Konzert Kellerbistro Nils Althaus: Tryout Neues Programm
END:VEVENT
END:VCALENDAR
