BEGIN:VCALENDAR
VERSION:2.0
PRODID:-//Pro Regio Huttwil//NONSGML kigkonsult.se iCalcreator 2.16.12//
METHOD:PUBLISH
X-MS-OLK-FORCEINSPECTOROPEN:TRUE
BEGIN:VEVENT
UID:20260420T134636CEST-8608TrvkdN@Pro Regio Huttwil
DTSTAMP:20260420T114636Z
DESCRIPTION:The Busquitos - Die besten Holländischen Strassenmusiker\nThe B
 usquito’s bieten eine ansteckende Mischung von brillant gespielter Musik v
 erbunden mit einer wirbelnden Show. Sie sind eine verrückte\, spassige und
  grossartig swingende Band\, die Jedem ein Lächeln aufs Gesicht zaubert. E
 ine Mischung von Songs\, inspiriert von Mozart\, über die 'wilden Zwanzige
 r' bis zu den Hits von gestern – und bringen\, als erste bei uns gastieren
 de Band – sogar ihr eigenes Bier mit!!\nBistro offen ab 19.30
DTSTART:20160318T200000
DTEND:20160318T230000
LOCATION:Kellerbistro Alte Mühle
ORGANIZER:MAILTO:Pro Regio Huttwil <info@regio-huttwil.ch>
SUMMARY:Konzert Kellerbistro The Busquitos Holland
END:VEVENT
END:VCALENDAR
