BEGIN:VCALENDAR
VERSION:2.0
PRODID:-//Pro Regio Huttwil//NONSGML kigkonsult.se iCalcreator 2.16.12//
METHOD:PUBLISH
X-MS-OLK-FORCEINSPECTOROPEN:TRUE
BEGIN:VEVENT
UID:20260420T134636CEST-5507u1m9Ji@Pro Regio Huttwil
DTSTAMP:20260420T114636Z
DESCRIPTION:
DTSTART:20160318T120000
DTEND:20160318T140000
LOCATION:MZH
ORGANIZER:MAILTO:Pro Regio Huttwil <info@regio-huttwil.ch>
SUMMARY:Delegiertenversammlung
END:VEVENT
END:VCALENDAR
