BEGIN:VCALENDAR
VERSION:2.0
PRODID:-//Pro Regio Huttwil//NONSGML kigkonsult.se iCalcreator 2.16.12//
METHOD:PUBLISH
X-MS-OLK-FORCEINSPECTOROPEN:TRUE
BEGIN:VEVENT
UID:20260420T134751CEST-05545Z66KC@Pro Regio Huttwil
DTSTAMP:20260420T114751Z
DESCRIPTION:
DTSTART:20160317T000000
DTEND:20160317T235900
LOCATION:Kirchgemeindehaus
ORGANIZER:MAILTO:Pro Regio Huttwil <info@regio-huttwil.ch>
SUMMARY:Konzert
END:VEVENT
END:VCALENDAR
