BEGIN:VCALENDAR
VERSION:2.0
PRODID:-//Pro Regio Huttwil//NONSGML kigkonsult.se iCalcreator 2.16.12//
METHOD:PUBLISH
X-MS-OLK-FORCEINSPECTOROPEN:TRUE
BEGIN:VEVENT
UID:20260420T134751CEST-6736T0TKMo@Pro Regio Huttwil
DTSTAMP:20260420T114751Z
DESCRIPTION:
DTSTART:20160316T000000
DTEND:20160316T235900
LOCATION:Tagungsraum
ORGANIZER:MAILTO:Pro Regio Huttwil <info@regio-huttwil.ch>
SUMMARY:Seniorennachmittag
END:VEVENT
END:VCALENDAR
