BEGIN:VCALENDAR
VERSION:2.0
PRODID:-//Pro Regio Huttwil//NONSGML kigkonsult.se iCalcreator 2.16.12//
METHOD:PUBLISH
X-MS-OLK-FORCEINSPECTOROPEN:TRUE
BEGIN:VEVENT
UID:20260420T134750CEST-77914z3haR@Pro Regio Huttwil
DTSTAMP:20260420T114750Z
DESCRIPTION:Besammlung bei der Mehrzweckhalle Gondiswil\nAnlass findet im S
 chmidwald statt
DTSTART:20160306T000000
DTEND:20160306T235900
LOCATION:MZH
ORGANIZER:MAILTO:Pro Regio Huttwil <info@regio-huttwil.ch>
SUMMARY:Huttwiler-OL
END:VEVENT
END:VCALENDAR
