BEGIN:VCALENDAR
VERSION:2.0
PRODID:-//Pro Regio Huttwil//NONSGML kigkonsult.se iCalcreator 2.16.12//
METHOD:PUBLISH
X-MS-OLK-FORCEINSPECTOROPEN:TRUE
BEGIN:VEVENT
UID:20260420T134745CEST-4805jdevIE@Pro Regio Huttwil
DTSTAMP:20260420T114745Z
DESCRIPTION:Ruedi Stuber: Chrüsimüsi - ein Liedermacher mit Literaturpreis!
 \nFrüher war Ruedi Stuber Mitglied der Berner Troubadours\, heute tritt er
  allein oder mit seiner „Schweigenden Mehrheit“ auf. Seine Texte sind gesp
 ickt mit heiterem Wortwitz und Schalk\, die Melodien kommen luftig und lei
 chtfüssig daher. 2013 erhielt Ruedi Stuber den Preis für Literatur des Kan
 tons Solothurn. Am Kontrabass: Kurt Studer\nBistro offen ab 19.30
DTSTART:20160304T200000
DTEND:20160304T230000
LOCATION:Kellerbistro Alte Mühle
ORGANIZER:MAILTO:Pro Regio Huttwil <info@regio-huttwil.ch>
SUMMARY:Konzert Kellerbistro Ruedi Stuber: Chrüsimüsi - Liedermacher mit Li
 teraturpreis!
END:VEVENT
END:VCALENDAR
