BEGIN:VCALENDAR
VERSION:2.0
PRODID:-//Pro Regio Huttwil//NONSGML kigkonsult.se iCalcreator 2.16.12//
METHOD:PUBLISH
X-MS-OLK-FORCEINSPECTOROPEN:TRUE
BEGIN:VEVENT
UID:20260420T133927CEST-7305JSDk97@Pro Regio Huttwil
DTSTAMP:20260420T113927Z
DESCRIPTION:
DTSTART:20160220T130000
DTEND:20160220T213000
LOCATION:MZH
ORGANIZER:MAILTO:Pro Regio Huttwil <info@regio-huttwil.ch>
SUMMARY:Meisterschaftsspiel
END:VEVENT
END:VCALENDAR
