BEGIN:VCALENDAR
VERSION:2.0
PRODID:-//Pro Regio Huttwil//NONSGML kigkonsult.se iCalcreator 2.16.12//
METHOD:PUBLISH
X-MS-OLK-FORCEINSPECTOROPEN:TRUE
BEGIN:VEVENT
UID:20260420T134642CEST-6248vpmTx6@Pro Regio Huttwil
DTSTAMP:20260420T114642Z
DESCRIPTION:Bistro offen ab 19.30
DTSTART:20160219T200000
DTEND:20160219T230000
LOCATION:Kellerbistro Alte Mühle
ORGANIZER:MAILTO:Pro Regio Huttwil <info@regio-huttwil.ch>
SUMMARY:Filmspur Alte Mühle Huttwil Film 8 Namen für die Liebe
END:VEVENT
END:VCALENDAR
