BEGIN:VCALENDAR
VERSION:2.0
PRODID:-//Pro Regio Huttwil//NONSGML kigkonsult.se iCalcreator 2.16.12//
METHOD:PUBLISH
X-MS-OLK-FORCEINSPECTOROPEN:TRUE
BEGIN:VEVENT
UID:20260420T134611CEST-2305j3gUVe@Pro Regio Huttwil
DTSTAMP:20260420T114611Z
DESCRIPTION:Auskunft: Ruedi Mühle\, Sossaustrasse 16\, 4938 Rohrbach\, Tel.
  062 965 06 48
DTSTART:20160213T000000
DTEND:20160214T235900
LOCATION:Turnhalle
ORGANIZER:MAILTO:Pro Regio Huttwil <info@regio-huttwil.ch>
SUMMARY:Winterwanderung
END:VEVENT
END:VCALENDAR
