BEGIN:VCALENDAR
VERSION:2.0
PRODID:-//Pro Regio Huttwil//NONSGML kigkonsult.se iCalcreator 2.16.12//
METHOD:PUBLISH
X-MS-OLK-FORCEINSPECTOROPEN:TRUE
BEGIN:VEVENT
UID:20260420T134637CEST-07156VaxvV@Pro Regio Huttwil
DTSTAMP:20260420T114637Z
DESCRIPTION:The Selkies - Celtic Folk\nIrish und celtic Folkmusic\, fröhlic
 he und tänzerische Tunes\, träumerische und melancholische Songs\, Eigenko
 mpositionen und neu arrangierte traditionelle Kompositionen mit  Harfe\, F
 löte\, Violine\, Gitarre\, Bodran und Gesang und den fünf Musikern Seraina
  Bütikofer\, Jennifer Baumann\, Beat Kessler\, Frank Ziegler und Daniel Vö
 gelin\nBistro offen ab 19.30
DTSTART:20160212T200000
DTEND:20160212T230000
LOCATION:Kellerbistro Alte Mühle
ORGANIZER:MAILTO:Pro Regio Huttwil <info@regio-huttwil.ch>
SUMMARY:Konzert Kellerbistro Celtic Folk - The Selkies
END:VEVENT
END:VCALENDAR
