BEGIN:VCALENDAR
VERSION:2.0
PRODID:-//Pro Regio Huttwil//NONSGML kigkonsult.se iCalcreator 2.16.12//
METHOD:PUBLISH
X-MS-OLK-FORCEINSPECTOROPEN:TRUE
BEGIN:VEVENT
UID:20260420T133912CEST-0286vr9b6T@Pro Regio Huttwil
DTSTAMP:20260420T113912Z
DESCRIPTION:
DTSTART:20160208T000000
DTEND:20160208T235900
LOCATION:MZH
ORGANIZER:MAILTO:Pro Regio Huttwil <info@regio-huttwil.ch>
SUMMARY:Probe\, Bühne offen
END:VEVENT
END:VCALENDAR
