BEGIN:VCALENDAR
VERSION:2.0
PRODID:-//Pro Regio Huttwil//NONSGML kigkonsult.se iCalcreator 2.16.12//
METHOD:PUBLISH
X-MS-OLK-FORCEINSPECTOROPEN:TRUE
BEGIN:VEVENT
UID:20260420T134517CEST-2569eUifdr@Pro Regio Huttwil
DTSTAMP:20260420T114517Z
DESCRIPTION:Chicago Hot Club - Jazz & Blues Allstars\nDieser Groove heizt m
 ächtig ein: Dixie\, New Orleans\, Standarts\, Swing und afro-amerikanische
 r Blues der 20er Jahre – der mitreissende Drive der 6 Herren Gregor Bruhin
  Kornett\, Ueli Brunner Klarinette\, Rolf Albisser Posaune\, Heinz Hänni B
 ass\, Fredi Baranowski Gitarre und Hajo Commes Schlagzeug\, geht in die Be
 ine und die Spielfreude der Band hinterlässt nachhaltig gute Laune!\nBistr
 o offen ab 19.30
DTSTART:20160129T200000
DTEND:20160129T230000
LOCATION:Kellerbistro Alte Mühle
ORGANIZER:MAILTO:Pro Regio Huttwil <info@regio-huttwil.ch>
SUMMARY:Konzert Kellerbistro Jazz & Blues Chicago Hot Club
END:VEVENT
END:VCALENDAR
