BEGIN:VCALENDAR
VERSION:2.0
PRODID:-//Pro Regio Huttwil//NONSGML kigkonsult.se iCalcreator 2.16.12//
METHOD:PUBLISH
X-MS-OLK-FORCEINSPECTOROPEN:TRUE
BEGIN:VEVENT
UID:20260420T134635CEST-9584GMrjaC@Pro Regio Huttwil
DTSTAMP:20260420T114635Z
DESCRIPTION:Balkan Express: Der Name ist Programm …\nTraditionelle Volksmus
 ik aus Südosteuropa\, aus der jiddischen Klezmer-tradition sowie Stücke de
 r Roma. Melodien aus Rumänien\, Bulgarien\, Serbien\, Kroatien\, Albanien\
 , Moldawien\, Mazedonien\, Griechenland\, Türkei\, Ukraine\, Polen\, Russl
 and mit Reto Küng sax\, clarinets\, Roger Schlumpf percussion\, Andreas Li
 enhard bass\, Michael Thamm guitar\, vocals\nBistro offen ab 19.30
DTSTART:20160115T200000
DTEND:20160115T230000
LOCATION:Kellerbistro Alte Mühle
ORGANIZER:MAILTO:Pro Regio Huttwil <info@regio-huttwil.ch>
SUMMARY:Konzert Kellerbistro Balkan Express
END:VEVENT
END:VCALENDAR
