BEGIN:VCALENDAR
VERSION:2.0
PRODID:-//Pro Regio Huttwil//NONSGML kigkonsult.se iCalcreator 2.16.12//
METHOD:PUBLISH
X-MS-OLK-FORCEINSPECTOROPEN:TRUE
BEGIN:VEVENT
UID:20260420T134514CEST-6603cifEzL@Pro Regio Huttwil
DTSTAMP:20260420T114514Z
DESCRIPTION:
DTSTART:20160112T180000
DTEND:20160112T203000
LOCATION:Militäressraum in der Turnhalle
ORGANIZER:MAILTO:Pro Regio Huttwil <info@regio-huttwil.ch>
SUMMARY:Blutspenden
END:VEVENT
END:VCALENDAR
