BEGIN:VCALENDAR
VERSION:2.0
PRODID:-//Pro Regio Huttwil//NONSGML kigkonsult.se iCalcreator 2.16.12//
METHOD:PUBLISH
X-MS-OLK-FORCEINSPECTOROPEN:TRUE
BEGIN:VEVENT
UID:20260420T115954CEST-7943RpD6GN@Pro Regio Huttwil
DTSTAMP:20260420T095954Z
DESCRIPTION:\nVent Negru - Musiche del Sud delle Alpi e 'Viaggio a Betlemme
 '\n2 Personen = ein ganzes Orchester: Esther Rietschin und Mauro Garbani e
 ntführen uns im ersten Teil – abseits der kommerziellen “Boccalino-Folklor
 e” ins Tessin mit Gesang\, Organetto (Akkordeon-Grossvater)\, Piva (Tessin
 er Dudelsack)\, Okarina\, Saxophon\, Flöten und Perkussion. Im 2. Teil mac
 hen wir uns musikalisch auf den Weg nach Bethlehem – berührend und wunders
 chön!\nBistro offen ab 19.30
DTSTART:20151218T200000
DTEND:20151218T230000
LOCATION:Kellerbistro Alte Mühle
ORGANIZER:MAILTO:Pro Regio Huttwil <info@regio-huttwil.ch>
SUMMARY:Konzert Kellerbistro Vent Negru - Tessiner Volksmusik
END:VEVENT
END:VCALENDAR
