BEGIN:VCALENDAR
VERSION:2.0
PRODID:-//Pro Regio Huttwil//NONSGML kigkonsult.se iCalcreator 2.16.12//
METHOD:PUBLISH
X-MS-OLK-FORCEINSPECTOROPEN:TRUE
BEGIN:VEVENT
UID:20260420T115827CEST-92163FU06u@Pro Regio Huttwil
DTSTAMP:20260420T095827Z
DESCRIPTION:
DTSTART:20151212T130000
DTEND:20151212T213000
LOCATION:MZH Dürrenroth
ORGANIZER:MAILTO:Pro Regio Huttwil <info@regio-huttwil.ch>
SUMMARY:Meisterschaftsspiel
END:VEVENT
END:VCALENDAR
