BEGIN:VCALENDAR
VERSION:2.0
PRODID:-//Pro Regio Huttwil//NONSGML kigkonsult.se iCalcreator 2.16.12//
METHOD:PUBLISH
X-MS-OLK-FORCEINSPECTOROPEN:TRUE
BEGIN:VEVENT
UID:20260422T141538CEST-70733131oT@Pro Regio Huttwil
DTSTAMP:20260422T121538Z
DESCRIPTION:
DTSTART:20151208T130000
DTEND:20151208T153000
LOCATION:Vereinshaus EGW
ORGANIZER:MAILTO:Pro Regio Huttwil <info@regio-huttwil.ch>
SUMMARY:Gemeinschaftsnachmittag
END:VEVENT
END:VCALENDAR
