BEGIN:VCALENDAR
VERSION:2.0
PRODID:-//Pro Regio Huttwil//NONSGML kigkonsult.se iCalcreator 2.16.12//
METHOD:PUBLISH
X-MS-OLK-FORCEINSPECTOROPEN:TRUE
BEGIN:VEVENT
UID:20260420T120008CEST-5919Vu419S@Pro Regio Huttwil
DTSTAMP:20260420T100008Z
DESCRIPTION:
DTSTART:20151207T000000
DTEND:20151207T235900
LOCATION:Tagungsraum
ORGANIZER:MAILTO:Pro Regio Huttwil <info@regio-huttwil.ch>
SUMMARY:Gemeindeversammlung
END:VEVENT
END:VCALENDAR
