BEGIN:VCALENDAR
VERSION:2.0
PRODID:-//Pro Regio Huttwil//NONSGML kigkonsult.se iCalcreator 2.16.12//
METHOD:PUBLISH
X-MS-OLK-FORCEINSPECTOROPEN:TRUE
BEGIN:VEVENT
UID:20260420T115954CEST-7567XXhAbl@Pro Regio Huttwil
DTSTAMP:20260420T095954Z
DESCRIPTION:\nDänu Wisler - Folk\, Country\, Blues und Rock\nAuf seiner neu
 en Tour begibt sich Dänu Wisler auf die Spuren der Dichter und Poeten. Wis
 ler ist ein Meister der Akustikgitarre\, ein Magier des Wortes und ein Arc
 hitekt stimmungsvoller Arrangements. Jeder Abend ist ein Unikat. Mit im Ge
 päck sein neues Buch «Des Teufels Geiger» mit Gedankengängen von «Wedelema
 chern» bis Rock‚n‘ Roll-Pionieren …\nBistro offen ab 19.30
DTSTART:20151204T200000
DTEND:20151204T230000
LOCATION:Kellerbistro Alte Mühle
ORGANIZER:MAILTO:Pro Regio Huttwil <info@regio-huttwil.ch>
SUMMARY:Konzert Kellerbistro Dänu Wisler - Folk Rock
END:VEVENT
END:VCALENDAR
