BEGIN:VCALENDAR
VERSION:2.0
PRODID:-//Pro Regio Huttwil//NONSGML kigkonsult.se iCalcreator 2.16.12//
METHOD:PUBLISH
X-MS-OLK-FORCEINSPECTOROPEN:TRUE
BEGIN:VEVENT
UID:20260422T105112CEST-0150nNSJkv@Pro Regio Huttwil
DTSTAMP:20260422T085112Z
DESCRIPTION:Jubiläumskonzert (30 Jahre)\nBeginn 20.15 Uhr
DTSTART:20151204T000000
DTEND:20151205T235900
LOCATION:Mehrzweckhalle
ORGANIZER:MAILTO:Pro Regio Huttwil <info@regio-huttwil.ch>
SUMMARY:Jubiläumskonzert
END:VEVENT
END:VCALENDAR
