BEGIN:VCALENDAR
VERSION:2.0
PRODID:-//Pro Regio Huttwil//NONSGML kigkonsult.se iCalcreator 2.16.12//
METHOD:PUBLISH
X-MS-OLK-FORCEINSPECTOROPEN:TRUE
BEGIN:VEVENT
UID:20260420T120008CEST-1478MkuzAV@Pro Regio Huttwil
DTSTAMP:20260420T100008Z
DESCRIPTION:
DTSTART:20151202T170000
DTEND:20151202T180000
LOCATION:Pfrundscheune
ORGANIZER:MAILTO:Pro Regio Huttwil <info@regio-huttwil.ch>
SUMMARY:Chlousmärit
END:VEVENT
END:VCALENDAR
