BEGIN:VCALENDAR
VERSION:2.0
PRODID:-//Pro Regio Huttwil//NONSGML kigkonsult.se iCalcreator 2.16.12//
METHOD:PUBLISH
X-MS-OLK-FORCEINSPECTOROPEN:TRUE
BEGIN:VEVENT
UID:20260422T121549CEST-185953UV12@Pro Regio Huttwil
DTSTAMP:20260422T101549Z
DESCRIPTION:Geniessen Sie das einzigartige Lama-Erlebnis inmitten der wunde
 rschönen Hügellandschaft.\n\nKosten: Pro Erwachsene Fr. 35.00 / Pro Kind F
 r. 15.00\n\nAnmeldungen erforderlich unter info@lamahof-tschaeppel.ch oder
  Tel. 062 962 00 54.\n\nWir erlauben uns\, bei nicht idealen Wetterbedingu
 ngen den Anlass abzusagen.\n\nWeitere Infos finden Sie unter www.lamahof-t
 schaeppel.ch
DTSTART:20151212T140000
DTEND:20151212T160000
LOCATION:Huttwil
ORGANIZER:MAILTO:Pro Regio Huttwil <info@regio-huttwil.ch>
SUMMARY:Lamawanderung
END:VEVENT
END:VCALENDAR
