BEGIN:VCALENDAR
VERSION:2.0
PRODID:-//Pro Regio Huttwil//NONSGML kigkonsult.se iCalcreator 2.16.12//
METHOD:PUBLISH
X-MS-OLK-FORCEINSPECTOROPEN:TRUE
BEGIN:VEVENT
UID:20260420T134637CEST-9404KVmpTX@Pro Regio Huttwil
DTSTAMP:20260420T114637Z
DESCRIPTION:Unterhaltungs-Nachmittag mit Volkstänzen\, Liedern und Theater
DTSTART:20160124T130000
DTEND:20160124T160000
LOCATION:Mohrensaal Hotel Kleiner Prinz
ORGANIZER:MAILTO:Pro Regio Huttwil <info@regio-huttwil.ch>
SUMMARY:Trachtengruppe Theater-Tanz-Konzert
END:VEVENT
END:VCALENDAR
