BEGIN:VCALENDAR
VERSION:2.0
PRODID:-//Pro Regio Huttwil//NONSGML kigkonsult.se iCalcreator 2.16.12//
METHOD:PUBLISH
X-MS-OLK-FORCEINSPECTOROPEN:TRUE
BEGIN:VEVENT
UID:20260422T103944CEST-9453uTxlvc@Pro Regio Huttwil
DTSTAMP:20260422T083944Z
DESCRIPTION:
DTSTART:20151127T190000
DTEND:20151127T203000
LOCATION:Ref. Kirche
ORGANIZER:MAILTO:Pro Regio Huttwil <info@regio-huttwil.ch>
SUMMARY:Advent im Oberaargau - Musik und Geschichten zur Weihnachtszeit
END:VEVENT
END:VCALENDAR
