BEGIN:VCALENDAR
VERSION:2.0
PRODID:-//Pro Regio Huttwil//NONSGML kigkonsult.se iCalcreator 2.16.12//
METHOD:PUBLISH
X-MS-OLK-FORCEINSPECTOROPEN:TRUE
BEGIN:VEVENT
UID:20260420T115955CEST-4061Cag10v@Pro Regio Huttwil
DTSTAMP:20260420T095955Z
DESCRIPTION:
DTSTART:20151121T230000
DTEND:20151122T225900
LOCATION:Kirche
ORGANIZER:MAILTO:Pro Regio Huttwil <info@regio-huttwil.ch>
SUMMARY:Herbstkonzert
END:VEVENT
END:VCALENDAR
