BEGIN:VCALENDAR
VERSION:2.0
PRODID:-//Pro Regio Huttwil//NONSGML kigkonsult.se iCalcreator 2.16.12//
METHOD:PUBLISH
X-MS-OLK-FORCEINSPECTOROPEN:TRUE
BEGIN:VEVENT
UID:20260420T120000CEST-90382ojpgO@Pro Regio Huttwil
DTSTAMP:20260420T100000Z
DESCRIPTION:Hot Rock - Rock’n‘Roll\nDie Luzerner Rock'n'Roll Band spielt So
 ngs aus den Fünfzigerjahren mit Passion – enorm fätzig! – es wird schwieri
 g\, sitzen zu bleiben! Hot Rock sind Fabiana Antonelli vocal. guitar\, uku
 lele\, Rafael Spörri piano\, vocal\, Rainer Sauser bass\, Edi Rast percuss
 ion\, Rico Antonelli guitar\, vocal\nBistro offen ab 19.30
DTSTART:20151120T190000
DTEND:20151120T220000
LOCATION:Kellerbistro Alte Mühle / Erich Stamm
ORGANIZER:MAILTO:Pro Regio Huttwil <info@regio-huttwil.ch>
SUMMARY:Konzert Kellerbistro Hot Rock - Rock’n‘Roll
END:VEVENT
END:VCALENDAR
