BEGIN:VCALENDAR
VERSION:2.0
PRODID:-//Pro Regio Huttwil//NONSGML kigkonsult.se iCalcreator 2.16.12//
METHOD:PUBLISH
X-MS-OLK-FORCEINSPECTOROPEN:TRUE
BEGIN:VEVENT
UID:20260424T100624CEST-7078xxOUi0@Pro Regio Huttwil
DTSTAMP:20260424T080624Z
DESCRIPTION:
DTSTART:20151117T230000
DTEND:20151118T225900
LOCATION:Tagungsraum
ORGANIZER:MAILTO:Pro Regio Huttwil <info@regio-huttwil.ch>
SUMMARY:Seniorennachmittag/Lotto
END:VEVENT
END:VCALENDAR
