BEGIN:VCALENDAR
VERSION:2.0
PRODID:-//Pro Regio Huttwil//NONSGML kigkonsult.se iCalcreator 2.16.12//
METHOD:PUBLISH
X-MS-OLK-FORCEINSPECTOROPEN:TRUE
BEGIN:VEVENT
UID:20260422T104040CEST-19104UBmzZ@Pro Regio Huttwil
DTSTAMP:20260422T084040Z
DESCRIPTION:
DTSTART:20151114T230000
DTEND:20151115T225900
LOCATION:MZH
ORGANIZER:MAILTO:Pro Regio Huttwil <info@regio-huttwil.ch>
SUMMARY:Lotto
END:VEVENT
END:VCALENDAR
