BEGIN:VCALENDAR
VERSION:2.0
PRODID:-//Pro Regio Huttwil//NONSGML kigkonsult.se iCalcreator 2.16.12//
METHOD:PUBLISH
X-MS-OLK-FORCEINSPECTOROPEN:TRUE
BEGIN:VEVENT
UID:20260420T115956CEST-4439ADrV09@Pro Regio Huttwil
DTSTAMP:20260420T095956Z
DESCRIPTION:
DTSTART:20151114T190000
DTEND:20151114T203000
LOCATION:Ref. Kirche Huttwil
ORGANIZER:MAILTO:Pro Regio Huttwil <info@regio-huttwil.ch>
SUMMARY:Konzert Gospel Singers Madiswil
END:VEVENT
END:VCALENDAR
