BEGIN:VCALENDAR
VERSION:2.0
PRODID:-//Pro Regio Huttwil//NONSGML kigkonsult.se iCalcreator 2.16.12//
METHOD:PUBLISH
X-MS-OLK-FORCEINSPECTOROPEN:TRUE
BEGIN:VEVENT
UID:20260420T120002CEST-9416oHUesV@Pro Regio Huttwil
DTSTAMP:20260420T100002Z
DESCRIPTION:
DTSTART:20151113T230000
DTEND:20151114T225900
LOCATION:Feuerwehrmagazin
ORGANIZER:MAILTO:Pro Regio Huttwil <info@regio-huttwil.ch>
SUMMARY:Magazinfest
END:VEVENT
END:VCALENDAR
