BEGIN:VCALENDAR
VERSION:2.0
PRODID:-//Pro Regio Huttwil//NONSGML kigkonsult.se iCalcreator 2.16.12//
METHOD:PUBLISH
X-MS-OLK-FORCEINSPECTOROPEN:TRUE
BEGIN:VEVENT
UID:20260422T103124CEST-3571MdX4m5@Pro Regio Huttwil
DTSTAMP:20260422T083124Z
DESCRIPTION:Bistro offen ab 19.30
DTSTART:20151113T190000
DTEND:20151113T220000
LOCATION:Kellerbistro Alte Mühle
ORGANIZER:MAILTO:Pro Regio Huttwil <info@regio-huttwil.ch>
SUMMARY:Filmspur Alte Mühle Huttwil Film Still Alice
END:VEVENT
END:VCALENDAR
