BEGIN:VCALENDAR
VERSION:2.0
PRODID:-//Pro Regio Huttwil//NONSGML kigkonsult.se iCalcreator 2.16.12//
METHOD:PUBLISH
X-MS-OLK-FORCEINSPECTOROPEN:TRUE
BEGIN:VEVENT
UID:20260420T115826CEST-9037dwogSj@Pro Regio Huttwil
DTSTAMP:20260420T095826Z
DESCRIPTION:
DTSTART:20151111T230000
DTEND:20151112T225900
LOCATION:Kirchgemeindehaus
ORGANIZER:MAILTO:Pro Regio Huttwil <info@regio-huttwil.ch>
SUMMARY:Konzert und Theater
END:VEVENT
END:VCALENDAR
