BEGIN:VCALENDAR
VERSION:2.0
PRODID:-//Pro Regio Huttwil//NONSGML kigkonsult.se iCalcreator 2.16.12//
METHOD:PUBLISH
X-MS-OLK-FORCEINSPECTOROPEN:TRUE
BEGIN:VEVENT
UID:20260422T103124CEST-0622pgrZzV@Pro Regio Huttwil
DTSTAMP:20260422T083124Z
DESCRIPTION:Im Rahmen der 3-teiligen Orgelkonzertreihe '1 Orgel - 3 x ander
 s' findet das 3. und letzte Konzert unter dem Titel 'Orgel + Rock/Pop' sta
 tt. Organistin Christiane Nehls mit Band konzertieren zum Thema Rock und P
 op.
DTSTART:20151108T160000
DTEND:20151108T173000
LOCATION:Ref. Kirche
ORGANIZER:MAILTO:Pro Regio Huttwil <info@regio-huttwil.ch>
SUMMARY:Konzert Orgel + Rock/Pop
END:VEVENT
END:VCALENDAR
